BEGIN:VCALENDAR
VERSION:2.0
PRODID:-//Plone.org//NONSGML plone.app.event//EN
X-WR-TIMEZONE:Europe/Rome
BEGIN:VEVENT
SUMMARY:Oltre il parlato: aspetti corporei\, temporali e (micro)sequenzial
 i della sintassi-in-interazione
DTSTART;TZID=Europe/Rome;VALUE=DATE-TIME:20200604T150000
DTEND;TZID=Europe/Rome;VALUE=DATE-TIME:20200604T163000
DTSTAMP;VALUE=DATE-TIME:20260426T030817Z
UID:739407ddbbe342a7b0860d1521791372@lingue.unibo.it
CREATED;VALUE=DATE-TIME:20191018T143044Z
LAST-MODIFIED;VALUE=DATE-TIME:20191022T083842Z
URL:https://lingue.unibo.it/it/eventi/copy7_of_la-lingua-dellanatomia-in-l
 eonardo-da-vinci
END:VEVENT
BEGIN:VTIMEZONE
TZID:Europe/Rome
X-LIC-LOCATION:Europe/Rome
BEGIN:DAYLIGHT
DTSTART;VALUE=DATE-TIME:20200329T030000
TZNAME:CEST
TZOFFSETFROM:+0100
TZOFFSETTO:+0200
END:DAYLIGHT
END:VTIMEZONE
END:VCALENDAR
