BEGIN:VCALENDAR
VERSION:2.0
PRODID:-//Plone.org//NONSGML plone.app.event//EN
X-WR-TIMEZONE:Europe/Rome
BEGIN:VEVENT
SUMMARY:Fighting Discrimination\, Contrasting Violence\, Empowering People
DTSTART;TZID=Europe/Rome;VALUE=DATE-TIME:20251203T140000
DTEND;TZID=Europe/Rome;VALUE=DATE-TIME:20251203T173000
DTSTAMP;VALUE=DATE-TIME:20260422T021738Z
UID:41e26f6085d149dbb658f861a0c63b89@lingue.unibo.it
CREATED;VALUE=DATE-TIME:20251128T083903Z
DESCRIPTION:Second event of the Series "Fighting Discrimination\, Contrast
 ing Violence\, Empowering People"
LAST-MODIFIED;VALUE=DATE-TIME:20251128T113800Z
URL:https://lingue.unibo.it/it/eventi/fighting-discrimination-contrasting-
 violence-empowering-people
END:VEVENT
BEGIN:VTIMEZONE
TZID:Europe/Rome
X-LIC-LOCATION:Europe/Rome
BEGIN:STANDARD
DTSTART;VALUE=DATE-TIME:20251026T020000
TZNAME:CET
TZOFFSETFROM:+0200
TZOFFSETTO:+0100
END:STANDARD
END:VTIMEZONE
END:VCALENDAR
