BEGIN:VCALENDAR
VERSION:2.0
PRODID:-//Plone.org//NONSGML plone.app.event//EN
X-WR-TIMEZONE:Europe/Rome
BEGIN:VEVENT
SUMMARY:Presentazione libro "Fragranze di morte" di Yokomizo Seishi
DTSTART;TZID=Europe/Rome;VALUE=DATE-TIME:20220202T180000
DTEND;TZID=Europe/Rome;VALUE=DATE-TIME:20220202T193000
DTSTAMP;VALUE=DATE-TIME:20260420T060428Z
UID:1ed728b269d443b699a2af8212dc4ebc@lingue.unibo.it
CREATED;VALUE=DATE-TIME:20220127T194742Z
LAST-MODIFIED;VALUE=DATE-TIME:20220128T055749Z
URL:https://lingue.unibo.it/it/eventi/fragranze-di-morte
END:VEVENT
BEGIN:VTIMEZONE
TZID:Europe/Rome
X-LIC-LOCATION:Europe/Rome
BEGIN:STANDARD
DTSTART;VALUE=DATE-TIME:20211031T020000
TZNAME:CET
TZOFFSETFROM:+0200
TZOFFSETTO:+0100
END:STANDARD
END:VTIMEZONE
END:VCALENDAR
