BEGIN:VCALENDAR
VERSION:2.0
PRODID:-//Plone.org//NONSGML plone.app.event//EN
X-WR-TIMEZONE:Europe/Rome
BEGIN:VEVENT
SUMMARY:Il noir parla cinese: “Within” (2024)
DTSTART;TZID=Europe/Rome;VALUE=DATE-TIME:20241112T190000
DTEND;TZID=Europe/Rome;VALUE=DATE-TIME:20241112T203000
DTSTAMP;VALUE=DATE-TIME:20260420T144602Z
UID:ebb073649bc648198d1e085fbaad6c1e@lingue.unibo.it
CREATED;VALUE=DATE-TIME:20241021T101955Z
DESCRIPTION:Rassegna di film cinesi ideata e curata dalla cattedra di ling
 ua e letteratura cinese
LAST-MODIFIED;VALUE=DATE-TIME:20241021T133531Z
URL:https://lingue.unibo.it/it/eventi/il-noir-parla-cinese-within-2024
END:VEVENT
BEGIN:VTIMEZONE
TZID:Europe/Rome
X-LIC-LOCATION:Europe/Rome
BEGIN:STANDARD
DTSTART;VALUE=DATE-TIME:20241027T020000
TZNAME:CET
TZOFFSETFROM:+0200
TZOFFSETTO:+0100
END:STANDARD
END:VTIMEZONE
END:VCALENDAR
