BEGIN:VCALENDAR
VERSION:2.0
PRODID:-//Plone.org//NONSGML plone.app.event//EN
X-WR-TIMEZONE:Europe/Rome
BEGIN:VEVENT
SUMMARY:Japanese Film Selection - Fall Edition 2025
DTSTART;TZID=Europe/Rome;VALUE=DATE-TIME:20251014T190000
DTEND;TZID=Europe/Rome;VALUE=DATE-TIME:20251125T230000
DTSTAMP;VALUE=DATE-TIME:20260421T114034Z
UID:1e93ee96e5b441b2a7b4b2ffa3a5595e@lingue.unibo.it
CREATED;VALUE=DATE-TIME:20250908T093215Z
DESCRIPTION:Rassegna di film giapponesi con sottotitolazione in italiano
LAST-MODIFIED;VALUE=DATE-TIME:20250908T095411Z
URL:https://lingue.unibo.it/it/eventi/japanese-film-selection-fall-edition
 -2025
END:VEVENT
BEGIN:VTIMEZONE
TZID:Europe/Rome
X-LIC-LOCATION:Europe/Rome
BEGIN:DAYLIGHT
DTSTART;VALUE=DATE-TIME:20250330T030000
TZNAME:CEST
TZOFFSETFROM:+0100
TZOFFSETTO:+0200
END:DAYLIGHT
BEGIN:STANDARD
DTSTART;VALUE=DATE-TIME:20251026T020000
TZNAME:CET
TZOFFSETFROM:+0200
TZOFFSETTO:+0100
END:STANDARD
END:VTIMEZONE
END:VCALENDAR
