BEGIN:VCALENDAR
VERSION:2.0
PRODID:-//Plone.org//NONSGML plone.app.event//EN
X-WR-TIMEZONE:Europe/Rome
BEGIN:VEVENT
SUMMARY:La poesia polacca nel nuovo millennio: testi\, protagonisti\, tend
 enze
DTSTART;VALUE=DATE:20251127
DTEND;VALUE=DATE:20251129
DTSTAMP;VALUE=DATE-TIME:20260419T201933Z
UID:28ba01f8cf2d49b6acd65fbf5fe27bdc@lingue.unibo.it
CREATED;VALUE=DATE-TIME:20251117T155927Z
DESCRIPTION:Convegno internazionale
LAST-MODIFIED;VALUE=DATE-TIME:20251117T160104Z
URL:https://lingue.unibo.it/it/eventi/la-poesia-polacca-nel-nuovo-millenni
 o
END:VEVENT
END:VCALENDAR
