BEGIN:VCALENDAR
VERSION:2.0
PRODID:-//Plone.org//NONSGML plone.app.event//EN
X-WR-TIMEZONE:Europe/Rome
BEGIN:VEVENT
SUMMARY:La Transición (el cuento) de nunca acabar
DTSTART;TZID=Europe/Rome;VALUE=DATE-TIME:20251126T120000
DTEND;TZID=Europe/Rome;VALUE=DATE-TIME:20251126T140000
DTSTAMP;VALUE=DATE-TIME:20260421T120304Z
UID:0ce985f33fb04409af9ca93d0bb48361@lingue.unibo.it
CREATED;VALUE=DATE-TIME:20251126T091835Z
DESCRIPTION:Rassegna culturale 50 anni di democrazia in Spagna (1975-2025)
LAST-MODIFIED;VALUE=DATE-TIME:20251126T092005Z
URL:https://lingue.unibo.it/it/eventi/la-transici-n-el-cuento-de-nunca-aca
 bar
END:VEVENT
BEGIN:VTIMEZONE
TZID:Europe/Rome
X-LIC-LOCATION:Europe/Rome
BEGIN:STANDARD
DTSTART;VALUE=DATE-TIME:20251026T020000
TZNAME:CET
TZOFFSETFROM:+0200
TZOFFSETTO:+0100
END:STANDARD
END:VTIMEZONE
END:VCALENDAR
