BEGIN:VCALENDAR
VERSION:2.0
PRODID:-//Plone.org//NONSGML plone.app.event//EN
X-WR-TIMEZONE:Europe/Rome
BEGIN:VEVENT
SUMMARY:Luci dal genocidio. Poesie da Gaza
DTSTART;TZID=Europe/Rome;VALUE=DATE-TIME:20251129T173000
DTEND;TZID=Europe/Rome;VALUE=DATE-TIME:20251129T183000
DTSTAMP;VALUE=DATE-TIME:20260421T101451Z
UID:845de6087b6d466a8f6a0e98b0a4260b@lingue.unibo.it
CREATED;VALUE=DATE-TIME:20251201T112600Z
DESCRIPTION:Incontro con la poetessa di Gaza Duniya al-Amal Ismail
LAST-MODIFIED;VALUE=DATE-TIME:20251201T112658Z
URL:https://lingue.unibo.it/it/eventi/luci-dal-genocidio-poesie-da-gaza
END:VEVENT
BEGIN:VTIMEZONE
TZID:Europe/Rome
X-LIC-LOCATION:Europe/Rome
BEGIN:STANDARD
DTSTART;VALUE=DATE-TIME:20251026T020000
TZNAME:CET
TZOFFSETFROM:+0200
TZOFFSETTO:+0100
END:STANDARD
END:VTIMEZONE
END:VCALENDAR
