BEGIN:VCALENDAR
VERSION:2.0
PRODID:-//Plone.org//NONSGML plone.app.event//EN
X-WR-TIMEZONE:Europe/Rome
BEGIN:VEVENT
SUMMARY:¡Mañana seremos mejores! - Le fonti fotografiche e cartacee nell
 ’Archivio dell’Istituto Storico Parri
DTSTART;TZID=Europe/Rome;VALUE=DATE-TIME:20251209T170000
DTEND;TZID=Europe/Rome;VALUE=DATE-TIME:20251209T190000
DTSTAMP;VALUE=DATE-TIME:20260419T153644Z
UID:4bc591f3d5c0468497280359a08f8209@lingue.unibo.it
CREATED;VALUE=DATE-TIME:20251204T155713Z
DESCRIPTION:Rassegna culturale "50 anni di democrazia in Spagna"
LAST-MODIFIED;VALUE=DATE-TIME:20251204T155853Z
URL:https://lingue.unibo.it/it/eventi/manana-seremos-mejores
END:VEVENT
BEGIN:VTIMEZONE
TZID:Europe/Rome
X-LIC-LOCATION:Europe/Rome
BEGIN:STANDARD
DTSTART;VALUE=DATE-TIME:20251026T020000
TZNAME:CET
TZOFFSETFROM:+0200
TZOFFSETTO:+0100
END:STANDARD
END:VTIMEZONE
END:VCALENDAR
