BEGIN:VCALENDAR
VERSION:2.0
PRODID:-//Plone.org//NONSGML plone.app.event//EN
X-WR-TIMEZONE:Europe/Rome
BEGIN:VEVENT
SUMMARY:Plurilinguismo\, affettività e identità emergenti nelle interazi
 oni fra richiedenti asilo e personale medico in Francia
DTSTART;TZID=Europe/Rome;VALUE=DATE-TIME:20201127T170000
DTEND;TZID=Europe/Rome;VALUE=DATE-TIME:20201127T184500
DTSTAMP;VALUE=DATE-TIME:20260419T190211Z
UID:73247577248543bc9afe91e3e91da8e1@lingue.unibo.it
CREATED;VALUE=DATE-TIME:20201109T062542Z
DESCRIPTION:Officine dell'Interculturalità
LAST-MODIFIED;VALUE=DATE-TIME:20201109T091642Z
URL:https://lingue.unibo.it/it/eventi/plurilinguismo-affettivita-e-identit
 a-emergenti-nelle-interazioni-fra-richiedenti-asilo-e-personale-medico-in-
 francia
END:VEVENT
BEGIN:VTIMEZONE
TZID:Europe/Rome
X-LIC-LOCATION:Europe/Rome
BEGIN:STANDARD
DTSTART;VALUE=DATE-TIME:20201025T020000
TZNAME:CET
TZOFFSETFROM:+0200
TZOFFSETTO:+0100
END:STANDARD
END:VTIMEZONE
END:VCALENDAR
