BEGIN:VCALENDAR
VERSION:2.0
PRODID:-//Plone.org//NONSGML plone.app.event//EN
X-WR-TIMEZONE:Europe/Rome
BEGIN:VEVENT
SUMMARY:I Sabati del Lilec
DTSTART;TZID=Europe/Rome;VALUE=DATE-TIME:20211113T100000
DTEND;TZID=Europe/Rome;VALUE=DATE-TIME:20211113T130000
DTSTAMP;VALUE=DATE-TIME:20260422T045211Z
UID:5210bd0082c641c981c711de039612db@lingue.unibo.it
CREATED;VALUE=DATE-TIME:20211111T133941Z
DESCRIPTION:Seconda edizione dei Sabati del LILEC\, ciclo di incontri offe
 rti dal Dipartimento di Lingue\, Letterature e Culture Moderne (Lilec) riv
 olti alla comunità studentesca e cittadina.
LAST-MODIFIED;VALUE=DATE-TIME:20211111T134143Z
URL:https://lingue.unibo.it/it/eventi/sabati-del-lilec
END:VEVENT
BEGIN:VTIMEZONE
TZID:Europe/Rome
X-LIC-LOCATION:Europe/Rome
BEGIN:STANDARD
DTSTART;VALUE=DATE-TIME:20211031T020000
TZNAME:CET
TZOFFSETFROM:+0200
TZOFFSETTO:+0100
END:STANDARD
END:VTIMEZONE
END:VCALENDAR
