BEGIN:VCALENDAR
VERSION:2.0
PRODID:-//Plone.org//NONSGML plone.app.event//EN
X-WR-TIMEZONE:Europe/Rome
BEGIN:VEVENT
SUMMARY:UNICittà IN VIAGGIO. Sguardi di ieri e di oggi sull’Appennino t
 osco-emiliano
DTSTART;TZID=Europe/Rome;VALUE=DATE-TIME:20210618T170000
DTEND;TZID=Europe/Rome;VALUE=DATE-TIME:20210618T190000
DTSTAMP;VALUE=DATE-TIME:20260421T161548Z
UID:abd540e008164bda9244f8f93a1c842e@lingue.unibo.it
CREATED;VALUE=DATE-TIME:20210616T112543Z
LAST-MODIFIED;VALUE=DATE-TIME:20210617T164939Z
URL:https://lingue.unibo.it/it/eventi/unicitta-in-viaggio-sguardi-di-ieri-
 e-di-oggi-sull2019appennino-tosco-emiliano
END:VEVENT
BEGIN:VTIMEZONE
TZID:Europe/Rome
X-LIC-LOCATION:Europe/Rome
BEGIN:DAYLIGHT
DTSTART;VALUE=DATE-TIME:20210328T030000
TZNAME:CEST
TZOFFSETFROM:+0100
TZOFFSETTO:+0200
END:DAYLIGHT
END:VTIMEZONE
END:VCALENDAR
